BEGIN:VCALENDAR
VERSION:2.0
PRODID:-//Paris Bourbon County Kentucky - ECPv6.15.20//NONSGML v1.0//EN
CALSCALE:GREGORIAN
METHOD:PUBLISH
X-WR-CALNAME:Paris Bourbon County Kentucky
X-ORIGINAL-URL:https://pariskytourism.com
X-WR-CALDESC:Events for Paris Bourbon County Kentucky
REFRESH-INTERVAL;VALUE=DURATION:PT1H
X-Robots-Tag:noindex
X-PUBLISHED-TTL:PT1H
BEGIN:VTIMEZONE
TZID:America/New_York
BEGIN:DAYLIGHT
TZOFFSETFROM:-0500
TZOFFSETTO:-0400
TZNAME:EDT
DTSTART:20240310T070000
END:DAYLIGHT
BEGIN:STANDARD
TZOFFSETFROM:-0400
TZOFFSETTO:-0500
TZNAME:EST
DTSTART:20241103T060000
END:STANDARD
BEGIN:DAYLIGHT
TZOFFSETFROM:-0500
TZOFFSETTO:-0400
TZNAME:EDT
DTSTART:20250309T070000
END:DAYLIGHT
BEGIN:STANDARD
TZOFFSETFROM:-0400
TZOFFSETTO:-0500
TZNAME:EST
DTSTART:20251102T060000
END:STANDARD
BEGIN:DAYLIGHT
TZOFFSETFROM:-0500
TZOFFSETTO:-0400
TZNAME:EDT
DTSTART:20260308T070000
END:DAYLIGHT
BEGIN:STANDARD
TZOFFSETFROM:-0400
TZOFFSETTO:-0500
TZNAME:EST
DTSTART:20261101T060000
END:STANDARD
BEGIN:DAYLIGHT
TZOFFSETFROM:-0500
TZOFFSETTO:-0400
TZNAME:EDT
DTSTART:20270314T070000
END:DAYLIGHT
BEGIN:STANDARD
TZOFFSETFROM:-0400
TZOFFSETTO:-0500
TZNAME:EST
DTSTART:20271107T060000
END:STANDARD
END:VTIMEZONE
BEGIN:VEVENT
DTSTART;TZID=America/New_York:20260417T180000
DTEND;TZID=America/New_York:20260417T210000
DTSTAMP:20260420T021310
CREATED:20260205T003746Z
LAST-MODIFIED:20260216T170547Z
UID:2136-1776448800-1776459600@pariskytourism.com
SUMMARY:Participate! Create! Enjoy! It's ARTWALK! 2026
DESCRIPTION:Presented By: \n \nThank you to our community partner!
URL:https://pariskytourism.com/event/participate-create-enjoy/
ATTACH;FMTTYPE=image/jpeg:https://pariskytourism.com/wp-content/uploads/2026/02/Screenshot-2026-artwalk-poster.jpg
END:VEVENT
BEGIN:VEVENT
DTSTART;TZID=America/New_York:20260417T180000
DTEND;TZID=America/New_York:20260417T210000
DTSTAMP:20260420T021310
CREATED:20260109T201325Z
LAST-MODIFIED:20260216T170745Z
UID:2030-1776448800-1776459600@pariskytourism.com
SUMMARY:ARTWALK! America 250- Bourbon County
DESCRIPTION:MARK your calendar for a very special ARTWALK! 2026
URL:https://pariskytourism.com/event/artwalk-america-250-bourbon-county/
ATTACH;FMTTYPE=image/jpeg:https://pariskytourism.com/wp-content/uploads/2026/01/Screenshot-2artwalk-2026.jpg
END:VEVENT
BEGIN:VEVENT
DTSTART;TZID=America/New_York:20260410T173000
DTEND;TZID=America/New_York:20260410T193000
DTSTAMP:20260420T021310
CREATED:20260129T164420Z
LAST-MODIFIED:20260316T203929Z
UID:2101-1775842200-1775849400@pariskytourism.com
SUMMARY:TOYS of Childhood
DESCRIPTION:OPENING RECEPTION
URL:https://pariskytourism.com/event/toy-exhibit/
ATTACH;FMTTYPE=image/jpeg:https://pariskytourism.com/wp-content/uploads/2026/01/toys-of-childhood.jpg
END:VEVENT
BEGIN:VEVENT
DTSTART;TZID=America/New_York:20260328T170000
DTEND;TZID=America/New_York:20260328T210000
DTSTAMP:20260420T021310
CREATED:20260309T195439Z
LAST-MODIFIED:20260309T195439Z
UID:2304-1774717200-1774731600@pariskytourism.com
SUMMARY:Grand Opening Reception
DESCRIPTION:Saturday March 28\, 2026    5-9 pm\nHotel Thoroughbred
URL:https://pariskytourism.com/event/grand-opening-reception/
ATTACH;FMTTYPE=image/jpeg:https://pariskytourism.com/wp-content/uploads/2026/03/hotel-tho.-open.jpg
END:VEVENT
BEGIN:VEVENT
DTSTART;TZID=America/New_York:20260328T110000
DTEND;TZID=America/New_York:20260328T140000
DTSTAMP:20260420T021310
CREATED:20260306T213404Z
LAST-MODIFIED:20260306T214033Z
UID:2293-1774695600-1774706400@pariskytourism.com
SUMMARY:Peep'n Easy with Jesus
DESCRIPTION:Worship- Prizes- Inflatables- and Treats!\n11-2 pm    Legion Park\nCheck the time for age categories to search for eggs!\nKiwanis Club and FBC Paris
URL:https://pariskytourism.com/event/peepn-easy-with-jesus/
ATTACH;FMTTYPE=image/jpeg:https://pariskytourism.com/wp-content/uploads/2026/03/kiwansi-egg.jpg
END:VEVENT
BEGIN:VEVENT
DTSTART;TZID=America/New_York:20260328T070000
DTEND;TZID=America/New_York:20260328T100000
DTSTAMP:20260420T021310
CREATED:20260306T212922Z
LAST-MODIFIED:20260306T212922Z
UID:2290-1774681200-1774692000@pariskytourism.com
SUMMARY:Pancake Breakfast and Easter Bunny Photos
DESCRIPTION:Centerpoint Health (hospital) Front Entrance\n7-10 a.m.\n$10 per person
URL:https://pariskytourism.com/event/pancake-breakfast-and-easter-bunny-photos/
ATTACH;FMTTYPE=image/jpeg:https://pariskytourism.com/wp-content/uploads/2026/03/easter-pancakes.jpg
END:VEVENT
BEGIN:VEVENT
DTSTART;TZID=America/New_York:20260321T140000
DTEND;TZID=America/New_York:20260321T180000
DTSTAMP:20260420T021310
CREATED:20260302T163101Z
LAST-MODIFIED:20260302T163101Z
UID:2248-1774101600-1774116000@pariskytourism.com
SUMMARY:Easter Egg Hunt
DESCRIPTION:720 High Street\nParis\, Ky
URL:https://pariskytourism.com/event/easter-egg-hunt/
ATTACH;FMTTYPE=image/jpeg:https://pariskytourism.com/wp-content/uploads/2026/03/egg-hunt.jpg
END:VEVENT
BEGIN:VEVENT
DTSTART;TZID=America/New_York:20260321T110000
DTEND;TZID=America/New_York:20260321T130000
DTSTAMP:20260420T021310
CREATED:20260306T213834Z
LAST-MODIFIED:20260306T213834Z
UID:2296-1774090800-1774098000@pariskytourism.com
SUMMARY:Easter Egg DIVE!
DESCRIPTION:Children will hunt eggs at the YMCA indoor pool.\nCome prepared to get in the water. Non-swimmers will wear a life jacket.\nParents are welcome to join in the fun!!\nCheck the times for age categories to hunt!
URL:https://pariskytourism.com/event/easter-egg-dive/
ATTACH;FMTTYPE=image/jpeg:https://pariskytourism.com/wp-content/uploads/2026/03/egg-dive.jpg
END:VEVENT
BEGIN:VEVENT
DTSTART;TZID=America/New_York:20260321T083000
DTEND;TZID=America/New_York:20260321T233000
DTSTAMP:20260420T021310
CREATED:20260306T212507Z
LAST-MODIFIED:20260306T212507Z
UID:2287-1774081800-1774135800@pariskytourism.com
SUMMARY:Who Wants to Play A Round?
DESCRIPTION:Stoner Creek Disc Golf Course at Garrard Park\nOpening Event 8:45 a.m.  Tee Off at 9:00 a.m.
URL:https://pariskytourism.com/event/who-wants-to-play-a-round/
ATTACH;FMTTYPE=image/jpeg:https://pariskytourism.com/wp-content/uploads/2026/03/disc-golf.jpg
END:VEVENT
BEGIN:VEVENT
DTSTART;TZID=America/New_York:20260320T183000
DTEND;TZID=America/New_York:20260320T210000
DTSTAMP:20260420T021310
CREATED:20260310T151344Z
LAST-MODIFIED:20260310T151344Z
UID:2307-1774031400-1774040400@pariskytourism.com
SUMMARY:McTeggert Irish Dancers!
DESCRIPTION:Mustard Seed Hill   6:30 pm   Free of Charge
URL:https://pariskytourism.com/event/mcteggert-irish-dancers/
ATTACH;FMTTYPE=image/jpeg:https://pariskytourism.com/wp-content/uploads/2026/03/irish-dance.jpg
END:VEVENT
BEGIN:VEVENT
DTSTART;TZID=America/New_York:20260317T190000
DTEND;TZID=America/New_York:20260317T203000
DTSTAMP:20260420T021310
CREATED:20260302T162723Z
LAST-MODIFIED:20260302T162723Z
UID:2242-1773774000-1773779400@pariskytourism.com
SUMMARY:Tuesday at the Presby!!
DESCRIPTION:Them Lasses\nIn Concert at the First Presbyterian Church \n517 Pleasant St.  Paris\, Ky \n 
URL:https://pariskytourism.com/event/tuesday-at-the-presby/
ATTACH;FMTTYPE=image/jpeg:https://pariskytourism.com/wp-content/uploads/2026/03/lasses.jpg
END:VEVENT
BEGIN:VEVENT
DTSTART;TZID=America/New_York:20260307T140000
DTEND;TZID=America/New_York:20260307T150000
DTSTAMP:20260420T021310
CREATED:20260129T164047Z
LAST-MODIFIED:20260205T004314Z
UID:2090-1772892000-1772895600@pariskytourism.com
SUMMARY:Women's History Month
DESCRIPTION:
URL:https://pariskytourism.com/event/womens-history-month/
ATTACH;FMTTYPE=image/jpeg:https://pariskytourism.com/wp-content/uploads/2026/01/Screenshot-women.jpg
END:VEVENT
BEGIN:VEVENT
DTSTART;TZID=America/New_York:20260228T100000
DTEND;TZID=America/New_York:20260301T170000
DTSTAMP:20260420T021310
CREATED:20260216T165949Z
LAST-MODIFIED:20260217T180948Z
UID:2182-1772272800-1772384400@pariskytourism.com
SUMMARY:The Paris 3- Commemoration
DESCRIPTION:
URL:https://pariskytourism.com/event/the-paris-3-commemoration/
ATTACH;FMTTYPE=image/jpeg:https://pariskytourism.com/wp-content/uploads/2026/02/Paris-3.jpg
END:VEVENT
BEGIN:VEVENT
DTSTART;TZID=America/New_York:20260223T150000
DTEND;TZID=America/New_York:20260223T170000
DTSTAMP:20260420T021310
CREATED:20260203T171043Z
LAST-MODIFIED:20260205T004449Z
UID:2126-1771858800-1771866000@pariskytourism.com
SUMMARY:Black History Event
DESCRIPTION:
URL:https://pariskytourism.com/event/black-history-event/
ATTACH;FMTTYPE=image/jpeg:https://pariskytourism.com/wp-content/uploads/2026/02/elisha-greene.jpg
END:VEVENT
BEGIN:VEVENT
DTSTART;TZID=America/New_York:20260215T150000
DTEND;TZID=America/New_York:20260215T170000
DTSTAMP:20260420T021310
CREATED:20260122T194910Z
LAST-MODIFIED:20260205T005234Z
UID:2045-1771167600-1771174800@pariskytourism.com
SUMMARY:Celebrating the Life of Mae Street Kidd
DESCRIPTION:Keynote Speaker \nLeslie Bishop-Joe \nNiece of Mae Street Kidd \nAll are Welcome!  Youth are urged to attend. \n 
URL:https://pariskytourism.com/event/celebrating-the-life-of-mae-street-kidd/
ATTACH;FMTTYPE=image/png:https://pariskytourism.com/wp-content/uploads/2026/01/blk-history-month.png
END:VEVENT
BEGIN:VEVENT
DTSTART;TZID=America/New_York:20260215T130000
DTEND;TZID=America/New_York:20260215T180000
DTSTAMP:20260420T021310
CREATED:20260122T201538Z
LAST-MODIFIED:20260122T201538Z
UID:2049-1771160400-1771178400@pariskytourism.com
SUMMARY:Winter Blues Bash!
DESCRIPTION:Enjoy an afternoon of eating\, shopping and entertainment to chase away the Winter Blues!!
URL:https://pariskytourism.com/event/winter-blues-bash/
ATTACH;FMTTYPE=image/jpeg:https://pariskytourism.com/wp-content/uploads/2026/01/winter-blues.jpg
END:VEVENT
BEGIN:VEVENT
DTSTART;TZID=America/New_York:20260212T173000
DTEND;TZID=America/New_York:20260212T193000
DTSTAMP:20260420T021310
CREATED:20260129T165827Z
LAST-MODIFIED:20260210T190656Z
UID:2111-1770917400-1770924600@pariskytourism.com
SUMMARY:Old Time Music
DESCRIPTION:
URL:https://pariskytourism.com/event/old-time-music/
ATTACH;FMTTYPE=image/jpeg:https://pariskytourism.com/wp-content/uploads/2026/01/Screenshot-music.jpg
END:VEVENT
BEGIN:VEVENT
DTSTART;TZID=America/New_York:20260206T173000
DTEND;TZID=America/New_York:20260206T190000
DTSTAMP:20260420T021310
CREATED:20260122T210149Z
LAST-MODIFIED:20260203T164921Z
UID:2075-1770399000-1770404400@pariskytourism.com
SUMMARY:The Heart of the Turf: Racing's Black Pioneers
DESCRIPTION:Complimentary public reception to open the exhibit presented by the Keeneland Library. \nThe exhibit runs through the month of February in honor of Black History Month and until March 27th. \nHopewell Museum 800 Pleasant Street Paris\, Kentucky
URL:https://pariskytourism.com/event/the-heart-of-the-turf-racings-black-pioneers/
ATTACH;FMTTYPE=image/jpeg:https://pariskytourism.com/wp-content/uploads/2026/01/Screenshot-jockeys.jpg
END:VEVENT
BEGIN:VEVENT
DTSTART;TZID=America/New_York:20260206T123000
DTEND;TZID=America/New_York:20260206T150000
DTSTAMP:20260420T021310
CREATED:20260122T201947Z
LAST-MODIFIED:20260122T201947Z
UID:2056-1770381000-1770390000@pariskytourism.com
SUMMARY:Cabin Fever???
DESCRIPTION:It’s a Tea Luncheon at Lil’s \nBring a Friend and Enjoy getting out of the house!
URL:https://pariskytourism.com/event/cabin-fever/
ATTACH;FMTTYPE=image/jpeg:https://pariskytourism.com/wp-content/uploads/2026/01/cbin-fever.jpg
END:VEVENT
BEGIN:VEVENT
DTSTART;VALUE=DATE:20260206
DTEND;VALUE=DATE:20260328
DTSTAMP:20260420T021310
CREATED:20260122T212710Z
LAST-MODIFIED:20260122T212710Z
UID:2081-1770336000-1774655999@pariskytourism.com
SUMMARY:Keeneland Traveling Exhibit- The Heart of the Turf: Racing's Black Pioneers
DESCRIPTION:Hopewell Museum   Paris\, Kentucky\nFollow their Facebook Page and check their website for museum hours.
URL:https://pariskytourism.com/event/keeneland-traveling-exhibit-the-heart-of-the-turf-racings-black-pioneers/
ATTACH;FMTTYPE=image/jpeg:https://pariskytourism.com/wp-content/uploads/2026/01/Screenshot-jockeys.jpg
END:VEVENT
BEGIN:VEVENT
DTSTART;TZID=America/New_York:20260124T143000
DTEND;TZID=America/New_York:20260124T163000
DTSTAMP:20260420T021310
CREATED:20260109T194925Z
LAST-MODIFIED:20260122T213104Z
UID:2026-1769265000-1769272200@pariskytourism.com
SUMMARY:KICK-OFF Event America 250-Bourbon County
DESCRIPTION:POSTPONED!\nFollow America 250-Bourbon County Edition\nFacebook for updates!
URL:https://pariskytourism.com/event/kick-off-event-america-250-bourbon-county/
ATTACH;FMTTYPE=image/jpeg:https://pariskytourism.com/wp-content/uploads/2026/01/duncan-tavern-event-1.24.26.jpg
END:VEVENT
BEGIN:VEVENT
DTSTART;TZID=America/New_York:20260124T140000
DTEND;TZID=America/New_York:20260125T140000
DTSTAMP:20260420T021310
CREATED:20260109T203207Z
LAST-MODIFIED:20260109T203207Z
UID:2035-1769263200-1769349600@pariskytourism.com
SUMMARY:Auditions!!
DESCRIPTION:
URL:https://pariskytourism.com/event/auditions/
ATTACH;FMTTYPE=image/jpeg:https://pariskytourism.com/wp-content/uploads/2026/01/anne-of-green.jpg
END:VEVENT
BEGIN:VEVENT
DTSTART;TZID=America/New_York:20260121T080000
DTEND;TZID=America/New_York:20260121T100000
DTSTAMP:20260420T021310
CREATED:20260109T203529Z
LAST-MODIFIED:20260109T203529Z
UID:2040-1768982400-1768989600@pariskytourism.com
SUMMARY:The State of Bourbon County
DESCRIPTION:Sponsored by The Rotary Club of Paris \n316 Jim Hunt Way \nTicketed event
URL:https://pariskytourism.com/event/the-state-of-bourbon-county/
ATTACH;FMTTYPE=image/jpeg:https://pariskytourism.com/wp-content/uploads/2026/01/state-of-2.jpg
END:VEVENT
BEGIN:VEVENT
DTSTART;TZID=America/New_York:20251220T180000
DTEND;TZID=America/New_York:20251220T220000
DTSTAMP:20260420T021310
CREATED:20251210T211836Z
LAST-MODIFIED:20251210T211836Z
UID:1997-1766253600-1766268000@pariskytourism.com
SUMMARY:Hancock and Shouse
DESCRIPTION:Contact the Bourbon County Whiskey House 859-333-3341 for more information.
URL:https://pariskytourism.com/event/hancock-and-shouse/
ATTACH;FMTTYPE=image/jpeg:https://pariskytourism.com/wp-content/uploads/2025/12/hancock-and-Shouse.jpg
END:VEVENT
BEGIN:VEVENT
DTSTART;TZID=America/New_York:20251216T160000
DTEND;TZID=America/New_York:20251216T190000
DTSTAMP:20260420T021310
CREATED:20251212T193643Z
LAST-MODIFIED:20251212T193643Z
UID:2009-1765900800-1765911600@pariskytourism.com
SUMMARY:Open House
DESCRIPTION:On the corner of 8th and High Street \nVendors and Refreshments \nShop Fresh and Shop Local
URL:https://pariskytourism.com/event/open-house-2/
ATTACH;FMTTYPE=image/png:https://pariskytourism.com/wp-content/uploads/2025/12/fm-open-house.png
END:VEVENT
BEGIN:VEVENT
DTSTART;TZID=America/New_York:20251214T150000
DTEND;TZID=America/New_York:20251214T170000
DTSTAMP:20260420T021310
CREATED:20251201T192546Z
LAST-MODIFIED:20251201T192546Z
UID:1979-1765724400-1765731600@pariskytourism.com
SUMMARY:Community Christmas Concert
DESCRIPTION:
URL:https://pariskytourism.com/event/community-christmas-concert/
ATTACH;FMTTYPE=image/jpeg:https://pariskytourism.com/wp-content/uploads/2025/12/christmas-concert-2.jpg
END:VEVENT
BEGIN:VEVENT
DTSTART;TZID=America/New_York:20251214T130000
DTEND;TZID=America/New_York:20251214T153000
DTSTAMP:20260420T021310
CREATED:20251124T203705Z
LAST-MODIFIED:20251124T203705Z
UID:1948-1765717200-1765726200@pariskytourism.com
SUMMARY:Westside Christmas Party
DESCRIPTION:
URL:https://pariskytourism.com/event/westside-christmas-party/
ATTACH;FMTTYPE=image/png:https://pariskytourism.com/wp-content/uploads/2025/11/westside-christmans.png
END:VEVENT
BEGIN:VEVENT
DTSTART;TZID=America/New_York:20251213T140000
DTEND;TZID=America/New_York:20251213T150000
DTSTAMP:20260420T021310
CREATED:20251212T193850Z
LAST-MODIFIED:20251212T193850Z
UID:2018-1765634400-1765638000@pariskytourism.com
SUMMARY:Holiday Safari at the Library
DESCRIPTION:
URL:https://pariskytourism.com/event/holiday-safari-at-the-library/
ATTACH;FMTTYPE=image/jpeg:https://pariskytourism.com/wp-content/uploads/2025/12/SAFARI.jpg
END:VEVENT
BEGIN:VEVENT
DTSTART;TZID=America/New_York:20251213T110000
DTEND;TZID=America/New_York:20251213T170000
DTSTAMP:20260420T021310
CREATED:20251210T212229Z
LAST-MODIFIED:20251210T212229Z
UID:2002-1765623600-1765645200@pariskytourism.com
SUMMARY:Holiday Social and Christmas Tea
DESCRIPTION:Two seatings:  11 am and 3 pm\nTickets are $35   Beautiful\, Historic\, Houstondale Farm
URL:https://pariskytourism.com/event/holiday-social-and-christmas-tea/
ATTACH;FMTTYPE=image/jpeg:https://pariskytourism.com/wp-content/uploads/2025/12/Jessicas-social.jpg
END:VEVENT
BEGIN:VEVENT
DTSTART;TZID=America/New_York:20251212T173000
DTEND;TZID=America/New_York:20251212T210000
DTSTAMP:20260420T021310
CREATED:20251126T201740Z
LAST-MODIFIED:20251212T194313Z
UID:1964-1765560600-1765573200@pariskytourism.com
SUMMARY:Hopewell Museum Holiday Party
DESCRIPTION:CANCELLED DUE TO INCLEMENT WEATHER!!!
URL:https://pariskytourism.com/event/hopewell-museum-holiday-party/
ATTACH;FMTTYPE=image/jpeg:https://pariskytourism.com/wp-content/uploads/2025/11/museum-party.jpg
END:VEVENT
END:VCALENDAR